BEGIN:VCALENDAR
VERSION:2.0
PRODID:icalendar-ruby
CALSCALE:GREGORIAN
METHOD:PUBLISH
BEGIN:VEVENT
DTSTAMP:20260420T004235Z
UID:769-870464@stcolumbaporthardy.ca
DTSTART:20260502T140000Z
DTEND:20260502T163000Z
CLASS:PUBLIC
CREATED:20260418T110931
DESCRIPTION:St. Columba Sanctuary morning friends gather in the downstairs 
 hall early in the morning every day starting at 7 AM until about 9:30 AM. 
 Drop-in for coffee or breakfast in a welcoming space. On Sunday we are ope
 n through to about 1:00 PM with a hot lunch also available.
LAST-MODIFIED:20260418T110931
LOCATION:St. Columba's Church hall
SUMMARY:St. Columba Sanctuary
URL;VALUE=URI:https://www.stcolumbaporthardy.ca/events/st-columba-sanctuary
 --769/2026-05-02
ATTACH;FILENAME=Welcome.jpg;FMTTYPE=image/jpeg:https://dq5pwpg1q8ru0.cloudf
 ront.net/2025/09/25/23/50/31/dde02027-0fd3-407d-b773-3700f99359bd/Welcome.
 jpg
END:VEVENT
END:VCALENDAR
