BEGIN:VCALENDAR
VERSION:2.0
PRODID:icalendar-ruby
CALSCALE:GREGORIAN
METHOD:PUBLISH
BEGIN:VEVENT
DTSTAMP:20260419T122113Z
UID:803-870196@stcolumbaporthardy.ca
DTSTART:20260503T220000Z
DTEND:20260503T230000Z
CLASS:PUBLIC
CREATED:20260418T104930
DESCRIPTION:Join us this Sunday afternoon as Rev. Sheila Cook leads us in w
 orship on the fifth Sunday of Easter which will include Anglican Communion
 . Note that the service will be held on Sunday afternoon at 3:00 PM as She
 ila is also leading worship in ‘Yalis (Alert Bay) in the morning. Everyo
 ne is welcome.\nFellowship and refreshments will be available after the se
 rvice.\nA hymn list may be added before the service.
LAST-MODIFIED:20260418T104930
LOCATION:In person only at 9190 Granville St Port Hardy
SUMMARY:St. Columba's Sunday Service
URL;VALUE=URI:https://www.stcolumbaporthardy.ca/events/st-columbas-sunday-s
 ervice--803/2026-05-03
ATTACH;FILENAME=Communion.jpg;FMTTYPE=image/jpeg:https://dq5pwpg1q8ru0.clou
 dfront.net/2026/04/18/17/49/30/c89060c1-384e-4823-85ba-3bebb6aee30d/Commun
 ion.jpg
END:VEVENT
END:VCALENDAR
