BEGIN:VCALENDAR
VERSION:2.0
PRODID:icalendar-ruby
CALSCALE:GREGORIAN
METHOD:PUBLISH
BEGIN:VEVENT
DTSTAMP:20260419T123106Z
UID:804-870627@stcolumbaporthardy.ca
DTSTART:20260510T173000Z
DTEND:20260510T183000Z
CLASS:PUBLIC
CREATED:20260418T112224
DESCRIPTION:Join us this Sunday as Rev. Bob Gilbert leads us in worship whi
 ch will include communion. Everyone is welcome.\nCoffee and fellowship tim
 e after the service and lunch downstairs if you wish.\nA hymn list may be 
 added before the service.
LAST-MODIFIED:20260418T112224
LOCATION:In person only at 9190 Granville St Port Hardy
SUMMARY:St. Columba's Sunday Service
URL;VALUE=URI:https://www.stcolumbaporthardy.ca/events/st-columbas-sunday-s
 ervice--804/2026-05-10
ATTACH;FILENAME=bread-UC Wine.jpg;FMTTYPE=image/jpeg:https://dq5pwpg1q8ru0.
 cloudfront.net/2026/04/18/18/22/24/a1c00c6f-005e-4cde-8d48-06df36480c97/br
 ead-UC%20Wine.jpg
END:VEVENT
END:VCALENDAR
