BEGIN:VCALENDAR
VERSION:2.0
PRODID:icalendar-ruby
CALSCALE:GREGORIAN
METHOD:PUBLISH
BEGIN:VEVENT
DTSTAMP:20260419T122113Z
UID:805-870629@stcolumbaporthardy.ca
DTSTART:20260517T173000Z
DTEND:20260517T183000Z
CLASS:PUBLIC
CREATED:20260418T112545
DESCRIPTION:Join us this morning\, as Robert Fyles leads us in worship on 
 the seventh Sunday of Easter. Everyone is welcome.\nFellowship and coffee
 /tea will be available after the service.\nA hymn list may be added before
  the service.
LAST-MODIFIED:20260418T112545
LOCATION:In person only at 9190 Granville St Port Hardy
SUMMARY:St. Columba's Sunday Service
URL;VALUE=URI:https://www.stcolumbaporthardy.ca/events/st-columbas-sunday-s
 ervice--805/2026-05-17
ATTACH;FILENAME=StColumbaWorshipSanctuaryCloseUp1.jpg;FMTTYPE=image/jpeg:ht
 tps://dq5pwpg1q8ru0.cloudfront.net/2026/04/18/18/25/16/e433280c-c34b-4945-
 b3f3-c4282c725ddb/StColumbaWorshipSanctuaryCloseUp1.jpg
END:VEVENT
END:VCALENDAR
