BEGIN:VCALENDAR
VERSION:2.0
PRODID:icalendar-ruby
CALSCALE:GREGORIAN
METHOD:PUBLISH
BEGIN:VEVENT
DTSTAMP:20260419T123106Z
UID:806-870635@stcolumbaporthardy.ca
DTSTART:20260531T173000Z
DTEND:20260531T183000Z
CLASS:PUBLIC
CREATED:20260418T130459
DESCRIPTION:Join us this morning\, as Robert Fyles leads us in worship on 
 this Trinity Sunday. Everyone is welcome.\nFellowship and coffee/tea will
  be available after the service.\nA hymn list may be added before the serv
 ice.
LAST-MODIFIED:20260418T130459
LOCATION:In person only at 9190 Granville St Port Hardy
SUMMARY:St. Columba's Sunday Service
URL;VALUE=URI:https://www.stcolumbaporthardy.ca/events/st-columbas-sunday-s
 ervice--806/2026-05-31
ATTACH;FILENAME=Trinity Sunday (1).jpg;FMTTYPE=image/jpeg:https://dq5pwpg1q
 8ru0.cloudfront.net/2026/04/18/20/04/39/0e5c2de8-b612-42f4-8b79-67fb40b4e6
 1c/Trinity%20Sunday%20(1).jpg
END:VEVENT
END:VCALENDAR
