BEGIN:VCALENDAR
VERSION:2.0
PRODID:icalendar-ruby
CALSCALE:GREGORIAN
METHOD:PUBLISH
BEGIN:VEVENT
DTSTAMP:20260419T122407Z
UID:807-870632@stcolumbaporthardy.ca
DTSTART:20260524T173000Z
DTEND:20260524T183000Z
CLASS:PUBLIC
CREATED:20260418T114328
DESCRIPTION:Join us this Sunday\, marking Pentecost Sunday as Rev. Bob Gilb
 ert leads us in worship. Everyone is welcome.\nCoffee and fellowship time 
 after the service and lunch downstairs if you wish.\nA hymn list may be ad
 ded before the service.
LAST-MODIFIED:20260418T114328
LOCATION:In person only at 9190 Granville St Port Hardy
SUMMARY:St. Columba's Sunday Service
URL;VALUE=URI:https://www.stcolumbaporthardy.ca/events/st-columbas-sunday-s
 ervice--807/2026-05-24
ATTACH;FILENAME=Pentecost Sunday.png;FMTTYPE=image/png:https://dq5pwpg1q8ru
 0.cloudfront.net/2026/04/18/18/43/28/41615ec5-4dc9-4d3d-8c48-6f7bbc742094/
 Pentecost%20Sunday.png
END:VEVENT
END:VCALENDAR
