BEGIN:VCALENDAR
VERSION:2.0
PRODID:icalendar-ruby
CALSCALE:GREGORIAN
METHOD:PUBLISH
BEGIN:VEVENT
DTSTAMP:20260419T123400Z
UID:808-870636@stcolumbaporthardy.ca
DTSTART:20260607T220000Z
DTEND:20260607T230000Z
CLASS:PUBLIC
CREATED:20260418T130855
DESCRIPTION:Join us this Sunday afternoon as Rev. Sheila Cook leads us in w
 orship which will include Anglican Communion. Note that the service will b
 e held on Sunday afternoon at 3:00 PM as Sheila is also leading worship in
  ‘Yalis (Alert Bay) in the morning. Everyone is welcome.\nFellowship and
  refreshments will be available after the service.\nA hymn list may be add
 ed before the service.
LAST-MODIFIED:20260418T130855
LOCATION:In person only at 9190 Granville St Port Hardy
SUMMARY:St. Columba's Sunday Service
URL;VALUE=URI:https://www.stcolumbaporthardy.ca/events/st-columbas-sunday-s
 ervice--808/2026-06-07
ATTACH;FILENAME=Communion.jpg;FMTTYPE=image/jpeg:https://dq5pwpg1q8ru0.clou
 dfront.net/2026/04/18/20/08/55/5bbd7d15-3a14-4ce6-965b-6831634b2f31/Commun
 ion.jpg
END:VEVENT
END:VCALENDAR
