BEGIN:VCALENDAR
VERSION:2.0
PRODID:icalendar-ruby
CALSCALE:GREGORIAN
METHOD:PUBLISH
BEGIN:VEVENT
DTSTAMP:20260423T182151Z
UID:809-879517@stcolumbaporthardy.ca
DTSTART:20260513T020000Z
DTEND:20260513T040000Z
CLASS:PUBLIC
CREATED:20260421T225308
DESCRIPTION:Join in celebrating the Rev. Sheila Cook's Vancouver School of 
 Theology convocation. The proceedings will be live streamed on vst.edu/con
 vocation. Note that Sheila will not be attending in person\, but viewing f
 rom Port Hardy.\nThe following is the news release from VST.\n2026 Convoca
 tion Ceremonies — May 12\, 2026\n\n\n\nCelebrating the distinguished cla
 ss of 2026!\nThe Vancouver School of Theology is delighted to confirm th
 at its 2026 Convocation Ceremonies will be conducted at Shaughnessey Heigh
 ts United Church\, May 12\, beginning at 7 pm.\nThis year’s Convocation 
 Ceremonies will include almost 50 graduates of VST’s degree\, certificat
 e\, and diploma programs. In addition to the graduates\, various student a
 ward recipients will also be announced and celebrated. The Convocation Add
 ress will be given by Dr. David Janzen\, Professor of Hebrew Bible/Old Te
 stament at Durham University.\nThe 2026 Vancouver School of Theology Convo
 cation Ceremonies will be presided over by Chancellor Catherine Evans and 
 VST President and Vice-Chancellor\, Rev. Dr. Richard R. Topping. An update
  on the activities of the school and prospects for the future will be offe
 red by the President. Students and faculty will conduct the service and th
 ere will be special music provided by VST’s Musician-in-Residence\, Mr. 
 Lonnie Delisle.\nTwo Honorary Doctor of Divinity Degrees will be awarded
 —one to The Rev. Amanda Currie\, Minister of Word and Sacrament at Firs
 t Presbyterian Church in Regina\, Saskatchewan\, and another to Rev. Jami
 e Holtom\, Lead Minister at North Brumlea United Church in Brampton\, Ont
 ario. The Rev. Roberto DeSandoli\, winner of the President’s 2026 Thoug
 htful\, Engaged\, and Generous (TEG) Christian Leader Award will also be a
 cknowledged.\n\n\n
LAST-MODIFIED:20260421T225308
LOCATION:Live stream from Vancouver
SUMMARY:VST Convocation
URL;VALUE=URI:https://www.stcolumbaporthardy.ca/events/vst-convocation/2026
 -05-12
ATTACH;FILENAME=Sheila Convocation.png;FMTTYPE=image/png:https://dq5pwpg1q8
 ru0.cloudfront.net/2026/04/22/05/51/48/78b5b641-7a78-4b21-9d24-67f011fc400
 2/Sheila%20Convocation.png
END:VEVENT
END:VCALENDAR
